BEGIN:VCALENDAR
VERSION:2.0
PRODID:-//Andrea Saga - ECPv6.13.2.1//NONSGML v1.0//EN
CALSCALE:GREGORIAN
METHOD:PUBLISH
X-ORIGINAL-URL:https://www.andreasaga.com
X-WR-CALDESC:Eventos para Andrea Saga
REFRESH-INTERVAL;VALUE=DURATION:PT1H
X-Robots-Tag:noindex
X-PUBLISHED-TTL:PT1H
BEGIN:VTIMEZONE
TZID:America/Mexico_City
BEGIN:DAYLIGHT
TZOFFSETFROM:-0600
TZOFFSETTO:-0500
TZNAME:CDT
DTSTART:20210404T080000
END:DAYLIGHT
BEGIN:STANDARD
TZOFFSETFROM:-0500
TZOFFSETTO:-0600
TZNAME:CST
DTSTART:20211031T070000
END:STANDARD
BEGIN:DAYLIGHT
TZOFFSETFROM:-0600
TZOFFSETTO:-0500
TZNAME:CDT
DTSTART:20220403T080000
END:DAYLIGHT
BEGIN:STANDARD
TZOFFSETFROM:-0500
TZOFFSETTO:-0600
TZNAME:CST
DTSTART:20221030T070000
END:STANDARD
END:VTIMEZONE
BEGIN:VTIMEZONE
TZID:UTC
BEGIN:STANDARD
TZOFFSETFROM:+0000
TZOFFSETTO:+0000
TZNAME:UTC
DTSTART:20210101T000000
END:STANDARD
END:VTIMEZONE
BEGIN:VEVENT
DTSTART;TZID=America/Mexico_City:20231007T100000
DTEND;TZID=America/Mexico_City:20231015T210000
DTSTAMP:20260423T140414
CREATED:20230919T144407Z
LAST-MODIFIED:20230920T064220Z
UID:5454-1696672800-1697403600@www.andreasaga.com
SUMMARY:Feria del libro Monterrey 2023
DESCRIPTION:Feria del libro Monterrey 2023 \n \nEstaré presentando la edición 10 aniversario de Potenkiah en la FIL Mty 2023 del 7 al 15 de octubre\, la entrada es gratuita\, ¡te espero!
URL:https://www.andreasaga.com/event/feria-del-libro-monterrey-2023/
LOCATION:Cintermex\, Av. Fundidora\, Monterrey\, Nuevo León\, Mexico
ATTACH;FMTTYPE=image/jpeg:https://www.andreasaga.com/wp-content/uploads/2023/09/WhatsApp-Image-2022-10-12-at-12.12.43-PM-1.jpeg
END:VEVENT
BEGIN:VEVENT
DTSTART;TZID=America/Mexico_City:20210827T200000
DTEND;TZID=America/Mexico_City:20210827T213000
DTSTAMP:20260423T140414
CREATED:20210807T002624Z
LAST-MODIFIED:20210807T002624Z
UID:5196-1630094400-1630099800@www.andreasaga.com
SUMMARY:Raseri Release Party
DESCRIPTION:Lanzamiento de libro y regalos a los asistentes.\n¿Te atreves a entrar a territorio Raseri?\nNovela de ciencia ficción\, por Andrea Saga.
URL:https://www.andreasaga.com/event/raseri-release-party/
LOCATION:Nuevo León
ATTACH;FMTTYPE=image/jpeg:https://www.andreasaga.com/wp-content/uploads/2021/08/PORTADA-EVENTO-FACEBOOK.jpg
END:VEVENT
BEGIN:VEVENT
DTSTART;TZID=UTC:20210719T130000
DTEND;TZID=UTC:20210719T150000
DTSTAMP:20260423T140414
CREATED:20210628T103204Z
LAST-MODIFIED:20210704T060935Z
UID:4848-1626699600-1626706800@www.andreasaga.com
SUMMARY:Masterclass Brandon Sanderson
DESCRIPTION:Acompáñame a esta Masterclass en línea en la que descifraremos lo que podemos aprender de Brandon Sanderson en cuanto a escritura de fantasía y el oficio de escritor.
URL:https://www.andreasaga.com/event/masterclass-brandon-sanderson/
LOCATION:Nuevo León
CATEGORIES:clases
ATTACH;FMTTYPE=image/jpeg:https://www.andreasaga.com/wp-content/uploads/2021/06/masterclas-brandon.jpg
END:VEVENT
END:VCALENDAR